BEGIN:VCALENDAR
VERSION:2.0
PRODID:icalendar-ruby
CALSCALE:GREGORIAN
METHOD:PUBLISH
BEGIN:VEVENT
DTSTAMP:20260425T023309Z
UID:8-970408@sandlakechapel.com
DTSTART:20261007T230000Z
DTEND:20261007T233000Z
CLASS:PUBLIC
CREATED:20260424T205248
DESCRIPTION:
LAST-MODIFIED:20260424T205248
LOCATION:
SUMMARY:Weekly Prayer Meeting
URL;VALUE=URI:https://sandlakechapel.com/events/weekly-prayer-meeting/2026-
 10-07
END:VEVENT
END:VCALENDAR
