BEGIN:VCALENDAR
VERSION:2.0
PRODID:icalendar-ruby
CALSCALE:GREGORIAN
METHOD:PUBLISH
BEGIN:VEVENT
DTSTAMP:20260424T223319Z
UID:7-968750@sandlakechapel.com
DTSTART:20261019T150000Z
DTEND:20261019T160000Z
CLASS:PUBLIC
CREATED:20260424T151617
DESCRIPTION:
LAST-MODIFIED:20260424T151617
LOCATION:
SUMMARY:Women's Bible Study
URL;VALUE=URI:https://sandlakechapel.com/events/womens-bible-study/2026-10-
 19
END:VEVENT
END:VCALENDAR
