BEGIN:VCALENDAR
VERSION:2.0
PRODID:icalendar-ruby
CALSCALE:GREGORIAN
METHOD:PUBLISH
BEGIN:VEVENT
DTSTAMP:20260425T001111Z
UID:7-969488@sandlakechapel.com
DTSTART:20261026T150000Z
DTEND:20261026T160000Z
CLASS:PUBLIC
CREATED:20260424T180403
DESCRIPTION:
LAST-MODIFIED:20260424T180403
LOCATION:
SUMMARY:Women's Bible Study
URL;VALUE=URI:https://sandlakechapel.com/events/womens-bible-study/2026-10-
 26
END:VEVENT
END:VCALENDAR
