BEGIN:VCALENDAR
VERSION:2.0
PRODID:icalendar-ruby
CALSCALE:GREGORIAN
METHOD:PUBLISH
BEGIN:VEVENT
DTSTAMP:20260425T013159Z
UID:7-969489@sandlakechapel.com
DTSTART:20261102T160000Z
DTEND:20261102T170000Z
CLASS:PUBLIC
CREATED:20260424T180403
DESCRIPTION:
LAST-MODIFIED:20260424T180403
LOCATION:
SUMMARY:Women's Bible Study
URL;VALUE=URI:https://sandlakechapel.com/events/womens-bible-study/2026-11-
 02
END:VEVENT
END:VCALENDAR
